BEGIN:VCALENDAR
PRODID:-//eluceo/ical//2.0/EN
VERSION:2.0
CALSCALE:GREGORIAN
BEGIN:VEVENT
UID:bf2049f5b2a9adf0ed4a7eda4d462320
DTSTAMP:20260425T142922Z
SUMMARY:UDEM Symposium 2026
URL:https://inselgruppe.ch/de/veranstaltungen/details/detail/udem-symposium
 -2026
DTSTART;TZID=+02:00:20260430T134500
DTEND;TZID=+02:00:20260430T171000
LOCATION:Inselspital Bern\, Auditorium Ettore Rossi
END:VEVENT
END:VCALENDAR
