BEGIN:VCALENDAR
PRODID:-//eluceo/ical//2.0/EN
VERSION:2.0
CALSCALE:GREGORIAN
BEGIN:VEVENT
UID:e5ccea20061e760589160e4125366ef9
DTSTAMP:20260420T124047Z
SUMMARY:Look Good Feel Better: Kosmetik-Workshops für Krebsbetroffene
URL:https://inselgruppe.ch/de/veranstaltungen/details/detail/look-good-feel
 -better-kosmetik-workshops-fuer-krebsbetroffene-2
DTSTART;TZID=+02:00:20260424T140000
DTEND;TZID=+02:00:20260424T160000
LOCATION:Frauenklinik Inselspital\, Friedbühlstrasse 19\, 3010 Bern\, Zimm
 er B172
END:VEVENT
END:VCALENDAR
