BEGIN:VCALENDAR
PRODID:-//eluceo/ical//2.0/EN
VERSION:2.0
CALSCALE:GREGORIAN
BEGIN:VEVENT
UID:b9c87c1ce1c2ff0cc1cf3d52517f3113
DTSTAMP:20260424T113042Z
SUMMARY:«Geburt in der Frauenklinik» - natürlich! Infoveranstaltung Gebu
 rt
URL:https://inselgruppe.ch/de/veranstaltungen/details/detail/infoveranstalt
 ung-geburt-52-10
DTSTART;TZID=+02:00:20260429T173000
DTEND;TZID=+02:00:20260429T193000
LOCATION:Frauenklinik Bern Zimmer B 171 & B 171a
END:VEVENT
END:VCALENDAR
