BEGIN:VCALENDAR
PRODID:-//eluceo/ical//2.0/EN
VERSION:2.0
CALSCALE:GREGORIAN
BEGIN:VEVENT
UID:0f058caac2c0d9bb80e040a13024f34f
DTSTAMP:20260422T165512Z
SUMMARY:18. Berner Tage für Rheumatologie und Immunologie 2022
URL:https://inselgruppe.ch/de/veranstaltungen/details/detail/grand-round-kr
 itische-ereignisse-mortalitaet-und-morbiditaet-1-1-1
DTSTART;TZID=+02:00:20220428T100000
DTEND;TZID=+02:00:20220428T173000
LOCATION:Inselspital Bern\, Kinderklinik\, Auditorium Ettore Rossi
END:VEVENT
END:VCALENDAR
