BEGIN:VCALENDAR
PRODID:-//eluceo/ical//2.0/EN
VERSION:2.0
CALSCALE:GREGORIAN
BEGIN:VEVENT
UID:05985fecabc60889f742da74ebd58b96
DTSTAMP:20260423T131713Z
SUMMARY:Gesundheitsforum Frühling 2026 - KARRIEREweg Medizin: Traumberuf 
 Ärztin
URL:https://inselgruppe.ch/de/veranstaltungen/details/detail/gesundheitsfor
 um-2026-2
DTSTART;TZID=+02:00:20260428T180000
DTEND;TZID=+02:00:20260428T193000
LOCATION:Auditorium Ettore Rossi\, Freiburgstrasse 19\, Julie-von-Jenner-Ha
 us (Kinderklinik)\, 3010 Bern
END:VEVENT
END:VCALENDAR
