BEGIN:VCALENDAR
PRODID:-//eluceo/ical//2.0/EN
VERSION:2.0
CALSCALE:GREGORIAN
BEGIN:VEVENT
UID:48e9807000264658b5866b45481b76bb
DTSTAMP:20260424T115216Z
SUMMARY:Frühkonzerte im Inselpark
URL:https://inselgruppe.ch/de/veranstaltungen/details/detail/fruehkonzerte-
 im-inselpark-1-1
DTSTART;TZID=+02:00:20260429T061500
DTEND;TZID=+02:00:20260429T074500
LOCATION:Treffpunkt: Eingang C. L. Lory-Haus
END:VEVENT
END:VCALENDAR
