BEGIN:VCALENDAR
PRODID:-//eluceo/ical//2.0/EN
VERSION:2.0
CALSCALE:GREGORIAN
BEGIN:VEVENT
UID:f9fbf9e4a2a0da70b90e23be8b9f9794
DTSTAMP:20260421T232737Z
SUMMARY:Fortbildung Grundlagen interprofessioneller Basiskurs 2026
URL:https://inselgruppe.ch/de/veranstaltungen/details/detail/fortbildung-gr
 undlagen-interprofessioneller-basiskurs-2026
DTSTART;TZID=+02:00:20260427T080000
DTEND;TZID=+02:00:20260601T175500
LOCATION:Stiftung Diaconis\, Schänzlistrasse 43\, 3013 Bern
END:VEVENT
END:VCALENDAR
