BEGIN:VCALENDAR
PRODID:-//eluceo/ical//2.0/EN
VERSION:2.0
CALSCALE:GREGORIAN
BEGIN:VEVENT
UID:2cfab52f040c9e00a5b8639962926d93
DTSTAMP:20260424T113653Z
SUMMARY:Endo-Repro Board
URL:https://inselgruppe.ch/de/veranstaltungen/details/detail/endo-repro-boa
 rd-6-2
DTSTART;TZID=+02:00:20260430T075000
DTEND;TZID=+02:00:20260430T081000
LOCATION:B171
END:VEVENT
END:VCALENDAR
