BEGIN:VCALENDAR
PRODID:-//eluceo/ical//2.0/EN
VERSION:2.0
CALSCALE:GREGORIAN
BEGIN:VEVENT
UID:7073f0b453ebe982820bce6ce381dda0
DTSTAMP:20260423T134516Z
SUMMARY:ALS-Netzwerktreffen Bern am 28. April 2026
URL:https://inselgruppe.ch/de/veranstaltungen/details/detail/als-netzwerktr
 effen-bern-am-28-april-2026
DTSTART;TZID=+02:00:20260428T170000
DTEND;TZID=+02:00:20260428T190000
LOCATION:Mehrzweckraum Paradiso\, Wirtschaftsgebäude H\, Inselspital Bern
END:VEVENT
END:VCALENDAR
